BEGIN:VCALENDAR
VERSION:2.0
PRODID:-//247thegig.com - ECPv6.15.13//NONSGML v1.0//EN
CALSCALE:GREGORIAN
METHOD:PUBLISH
X-WR-CALNAME:247thegig.com
X-ORIGINAL-URL:https://247thegig.com
X-WR-CALDESC:Events for 247thegig.com
REFRESH-INTERVAL;VALUE=DURATION:PT1H
X-Robots-Tag:noindex
X-PUBLISHED-TTL:PT1H
BEGIN:VTIMEZONE
TZID:America/New_York
BEGIN:DAYLIGHT
TZOFFSETFROM:-0500
TZOFFSETTO:-0400
TZNAME:EDT
DTSTART:20250309T070000
END:DAYLIGHT
BEGIN:STANDARD
TZOFFSETFROM:-0400
TZOFFSETTO:-0500
TZNAME:EST
DTSTART:20251102T060000
END:STANDARD
BEGIN:DAYLIGHT
TZOFFSETFROM:-0500
TZOFFSETTO:-0400
TZNAME:EDT
DTSTART:20260308T070000
END:DAYLIGHT
BEGIN:STANDARD
TZOFFSETFROM:-0400
TZOFFSETTO:-0500
TZNAME:EST
DTSTART:20261101T060000
END:STANDARD
BEGIN:DAYLIGHT
TZOFFSETFROM:-0500
TZOFFSETTO:-0400
TZNAME:EDT
DTSTART:20270314T070000
END:DAYLIGHT
BEGIN:STANDARD
TZOFFSETFROM:-0400
TZOFFSETTO:-0500
TZNAME:EST
DTSTART:20271107T060000
END:STANDARD
END:VTIMEZONE
BEGIN:VEVENT
DTSTART;TZID=America/New_York:20260214T073000
DTEND;TZID=America/New_York:20260214T120000
DTSTAMP:20260424T031025
CREATED:20260131T221529Z
LAST-MODIFIED:20260131T221529Z
UID:33291-1771054200-1771070400@247thegig.com
SUMMARY:Cupid's Chase 5K
DESCRIPTION:247 The Gig – Chattanooga’s Music will be broadcasting live from downtown Chattanooga for the Cupid’s Chase 5K \nListen live or join us at the Marsh Pavilion off Amincola Parkway
URL:https://247thegig.com/event/cupids-chase-5k/
LOCATION:Marsh Pavilion\, 2983 Amnicola Highway\, Chattanooga\, TN\, 37406\, United States
ATTACH;FMTTYPE=image/png:https://247thegig.com/wp-content/uploads/2026/01/race149649-logo-0.bKTVyK.png
ORGANIZER;CN="247 The Gig":MAILTO:info@247thegig.com
END:VEVENT
BEGIN:VEVENT
DTSTART;TZID=America/New_York:20260418T110000
DTEND;TZID=America/New_York:20260418T200000
DTSTAMP:20260424T031025
CREATED:20260210T013824Z
LAST-MODIFIED:20260210T013824Z
UID:33302-1776510000-1776542400@247thegig.com
SUMMARY:Chickamauga Crawfish Festival
DESCRIPTION:A day filled with great food\, family fun\, kid activities\, live entertainment\, and a lively festival atmosphere you won’t want to miss.Vonzara Inc. and Hearthara Culinary have partnered with the City of Chickamauga GA\, for this event!\nGet ready for an unforgettable community celebration! Bring your family and friends and enjoy:\n Delicious Food – Savor mouthwatering crawfish dishes and all your festival favorites Live Music & Entertainment – Groove to amazing performances all day KidZone Fun – Activities and games to keep the little ones entertained Vendors & Local Businesses – Shop unique products\, handmade goods\, and more Fun • Food • Family • Community – A day filled with laughter\, connection\, and memories.\nEvent held at the Crawfish Springs and The Gordon Lee Mansion.\n\nLinked to See More
URL:https://247thegig.com/event/chickamauga-crawfish-festival/
LOCATION:Cove Road Chickamuaga GA\, Crawfish Spring\, Chickamauga\, GA\, 30707\, United States
ATTACH;FMTTYPE=image/jpeg:https://247thegig.com/wp-content/uploads/2026/02/622723936_1428259765299775_8547513849950368876_n.jpg
END:VEVENT
END:VCALENDAR